BEGIN:VCALENDAR
VERSION:2.0
PRODID:-//https://go2qda.org///NONSGML kigkonsult.se iCalcreator 2.10.15//
METHOD:PUBLISH
BEGIN:VEVENT
UID:20260424T070052EDT-79167taaku@https://go2qda.org/
DTSTAMP:20260424T110052Z
DESCRIPTION: https://go2qda.org/component/rseventspro/event/602-explore-pat
 hways-to-construction-management?Itemid=142
DTSTART:20261022T130000Z
DTEND:20261022T170000Z
LOCATION:R. G. Drage Career Center (2800 Richville Dr SW\, Canton\, OH 4470
 6\, USA)
SUMMARY:Explore Pathways to Construction Management
URL:https://go2qda.org/component/rseventspro/event/602-explore-pathways-to-
 construction-management?Itemid=142
END:VEVENT
END:VCALENDAR
