BEGIN:VCALENDAR
VERSION:2.0
PRODID:-//https://go2qda.org///NONSGML kigkonsult.se iCalcreator 2.10.15//
METHOD:PUBLISH
BEGIN:VEVENT
UID:20260421T062756EDT-7974pHC65a@https://go2qda.org/
DTSTAMP:20260421T102756Z
DESCRIPTION:This is a virtual event. Please register to receive the meeting
  link.\n https://go2qda.org/events/upcoming-events/event/590-ai-webinar-fo
 r-students
DTSTART:20260420T180000Z
DTEND:20260420T190000Z
LOCATION:Virtual ()
SUMMARY:AI Webinar for Students
URL:https://go2qda.org/events/upcoming-events/event/590-ai-webinar-for-stud
 ents
END:VEVENT
END:VCALENDAR
